BEGIN:VCALENDAR
VERSION:2.0
PRODID:-//AIFO - ECPv6.15.13//NONSGML v1.0//EN
CALSCALE:GREGORIAN
METHOD:PUBLISH
X-WR-CALNAME:AIFO
X-ORIGINAL-URL:https://aifo.com
X-WR-CALDESC:Events for AIFO
REFRESH-INTERVAL;VALUE=DURATION:PT1H
X-Robots-Tag:noindex
X-PUBLISHED-TTL:PT1H
BEGIN:VTIMEZONE
TZID:Asia/Shanghai
BEGIN:STANDARD
TZOFFSETFROM:+0800
TZOFFSETTO:+0800
TZNAME:CST
DTSTART:20250101T000000
END:STANDARD
END:VTIMEZONE
BEGIN:VEVENT
DTSTART;TZID=Asia/Shanghai:20260120T080000
DTEND;TZID=Asia/Shanghai:20260120T170000
DTSTAMP:20260422T042851
CREATED:20260122T025051Z
LAST-MODIFIED:20260312T023647Z
UID:998-1768896000-1768928400@aifo.com
SUMMARY:XAU Fundamentals
DESCRIPTION:XAU Fundamentals
URL:https://aifo.com/event/xau-fundamentals/
END:VEVENT
END:VCALENDAR