BEGIN:VCALENDAR
VERSION:2.0
PRODID:-//AIFO - ECPv6.15.13//NONSGML v1.0//EN
CALSCALE:GREGORIAN
METHOD:PUBLISH
X-ORIGINAL-URL:https://aifo.com
X-WR-CALDESC:Events for AIFO
REFRESH-INTERVAL;VALUE=DURATION:PT1H
X-Robots-Tag:noindex
X-PUBLISHED-TTL:PT1H
BEGIN:VTIMEZONE
TZID:Asia/Shanghai
BEGIN:STANDARD
TZOFFSETFROM:+0800
TZOFFSETTO:+0800
TZNAME:CST
DTSTART:20250101T000000
END:STANDARD
END:VTIMEZONE
BEGIN:VEVENT
DTSTART;TZID=Asia/Shanghai:20260416T150000
DTEND;TZID=Asia/Shanghai:20260416T160000
DTSTAMP:20260421T232632
CREATED:20260113T024035Z
LAST-MODIFIED:20260410T072232Z
UID:757-1776351600-1776355200@aifo.com
SUMMARY:Live Market Technical Analysis |  London Open Session | 2026
DESCRIPTION:Join Frederick for a clear and practical market session covering Forex\, Gold (XAU)\, and BTC \nIn this live stream\, you’ll see: \n\nReal-time chart analysis across multiple markets\nKey levels and market structure\nTrade ideas and execution logic\nRisk management explained simply\nOngoing market commentary
URL:https://aifo.com/event/rules-deep-dive-phase-1/
END:VEVENT
END:VCALENDAR